BEGIN:VCALENDAR
VERSION:2.0
PRODID:-//eventon.com NONSGML v1.0//EN
BEGIN:VEVENT
UID:69e73ac3a7d26
DTSTAMP:20260421T045219
DTSTART:20240413T133000Z
DTEND:20240413T183000Z
LOCATION:Tall Oaks Community Center 12298 Cotton mill Drive\,  Woodbridge\,  VA 22192
SUMMARY:Eastcoast Prophetic Fire
DESCRIPTION: Eastcoast Prophetic Fire
URL:https://globalmanifestations.org/events/eastcoast-prophetic-fire/
END:VEVENT
END:VCALENDAR